0.00872100830078125
0.000000
0.000000
-0.00872100830078125
-121.790942840576
36.8059155273438
