0.00838434392755682
0.000000
0.000000
-0.00838434392755682
-85.5131099076705
33.1915017977628
