0.00995938387784089
0.000000
0.000000
-0.00995938387784089
-78.6628357765891
46.4898513932662
