0.00925692471590911
0.000000
0.000000
-0.00925692471590911
-99.0044512107156
41.5380274824663
