0.00834184126420453
0.000000
0.000000
-0.00834184126420453
-86.8273838390003
32.6878361441872
