0.0106386496803977
0.000000
0.000000
-0.0106386496803977
-114.57127771551
50.3803084217418
