0.00852633389559661
0.000000
0.000000
-0.00852633389559661
-96.3946404196999
34.7914788679643
