0.00916881214488635
0.000000
0.000000
-0.00916881214488635
-84.4690588101474
40.8278397577459
