0.00885561856356536
0.000000
0.000000
-0.00885561856356536
-81.1422556235574
38.095868211226
