0.00918756658380682
0.000000
0.000000
-0.00918756658380682
-106.93267594771
40.980986661044
