0.010297685102983
0.000000
0.000000
-0.010297685102983
-121.936154063832
48.5177164528587
