0.00946522105823864
0.000000
0.000000
-0.00946522105823864
-83.0528360262784
43.129201410467
