0.00901658491654828
0.000000
0.000000
-0.00901658491654828
-91.4724703563343
39.5430533530495
