0.00892103715376422
0.000000
0.000000
-0.00892103715376422
-89.2348541675915
38.6958263466575
