0.00957877419211646
0.000000
0.000000
-0.00957877419211646
-99.234840184992
43.9493732105602
