0.00891204833984375
0.000000
0.000000
-0.00891204833984375
-86.0711589050293
38.6143565368652
