0.0104555996981534
0.000000
0.000000
-0.0104555996981534
-90.679448630593
49.4010603471236
