0.0101462901722301
0.000000
0.000000
-0.0101462901722301
-96.6038163479892
47.6341556757147
