0.00815770929509943
0.000000
0.000000
-0.00815770929509943
-83.0972332624956
30.3522920712558
