0.00983104359019885
0.000000
0.000000
-0.00983104359019885
-91.495400057706
45.6666199701483
