0.010831992409446
0.000000
0.000000
-0.010831992409446
-104.108180139715
51.3663834727894
