0.00876561945134943
0.000000
0.000000
-0.00876561945134943
-94.8873040632768
37.2421610745517
