0.00962074973366479
0.000000
0.000000
-0.00962074973366479
-90.9664136297053
44.2448958934437
