0.00967393354936078
0.000000
0.000000
-0.00967393354936078
-103.473339496959
44.613494942405
