0.00833665327592328
0.000000
0.000000
-0.00833665327592328
-92.3218246043812
32.6254112174294
