0.00831870339133521
0.000000
0.000000
-0.00831870339133521
-95.7074550836737
32.4084840809215
