0.00864349365234375
0.000000
0.000000
-0.00864349365234375
-104.4027293396
36.0266383361816
