0.00907947887073864
0.000000
0.000000
-0.00907947887073864
-86.0323074618253
40.0833165532892
