0.00958448930220172
0.000000
0.000000
-0.00958448930220172
-88.5705514942516
43.9899434731223
