0.00891285289417615
0.000000
0.000000
-0.00891285289417615
-98.2334024325284
38.6215773565119
