0.00907947887073864
0.000000
0.000000
-0.00907947887073864
-115.580303982821
40.0833165532892
