0.00908716375177557
0.000000
0.000000
-0.00908716375177557
-100.164606337114
40.1484257784757
