0.00761474609375
0.000000
0.000000
-0.00761474609375
-157.852622680664
21.1882473754883
