0.00897760564630682
0.000000
0.000000
-0.00897760564630682
-89.9737965531783
39.20135226163
