0.00766374067826708
0.000000
0.000000
-0.00766374067826708
-158.076296192516
22.2326965262673
