0.00858634255149146
0.000000
0.000000
-0.00858634255149146
-108.693611242121
35.4329512440075
