0.00866801868785511
0.000000
0.000000
-0.00866801868785511
-90.9250739773837
36.2763704889471
