0.00877064098011364
0.000000
0.000000
-0.00877064098011364
-84.8468081942472
37.2905403692072
