0.00853790283203125
0.000000
0.000000
-0.00853790283203125
-99.860103302002
34.9166561889648
