0.00873793168501422
0.000000
0.000000
-0.00873793168501422
-113.814009135853
36.9725635597923
