0.00861452969637786
0.000000
0.000000
-0.00861452969637786
-87.146053536155
35.7276873640581
