0.00871579256924714
0.000000
0.000000
-0.00871579256924714
-101.586377799294
36.7544845719771
