0.00828366366299714
0.000000
0.000000
-0.00828366366299714
-100.508957144997
31.9778661485152
