0.00923259388316761
0.000000
0.000000
-0.00923259388316761
-97.0291618069735
41.3443483942205
