0.00963972611860797
0.000000
0.000000
-0.00963972611860797
-96.610097545277
44.3771038124778
