0.0105148870294744
0.000000
0.000000
-0.0105148870294744
-95.3592077498002
49.7233382901278
