0.00938404430042615
0.000000
0.000000
-0.00938404430042615
-77.2215243807706
42.5229187566584
