0.00851024280894886
0.000000
0.000000
-0.00851024280894886
-92.5328188809482
34.6160604303533
