0.00910028631036932
0.000000
0.000000
-0.00910028631036932
-102.693538069292
40.2590301791104
