0.00854569868607953
0.000000
0.000000
-0.00854569868607953
-83.6014365733754
35.0007930686257
